BEGIN:VCALENDAR
VERSION:2.0
PRODID:-//FUF des LBI - ECPv6.15.20//NONSGML v1.0//EN
CALSCALE:GREGORIAN
METHOD:PUBLISH
X-WR-CALNAME:FUF des LBI
X-ORIGINAL-URL:https://fuf-leobaeck.de
X-WR-CALDESC:Veranstaltungen für FUF des LBI
REFRESH-INTERVAL;VALUE=DURATION:PT1H
X-Robots-Tag:noindex
X-PUBLISHED-TTL:PT1H
BEGIN:VTIMEZONE
TZID:Europe/Helsinki
BEGIN:DAYLIGHT
TZOFFSETFROM:+0200
TZOFFSETTO:+0300
TZNAME:EEST
DTSTART:20220327T010000
END:DAYLIGHT
BEGIN:STANDARD
TZOFFSETFROM:+0300
TZOFFSETTO:+0200
TZNAME:EET
DTSTART:20221030T010000
END:STANDARD
BEGIN:DAYLIGHT
TZOFFSETFROM:+0200
TZOFFSETTO:+0300
TZNAME:EEST
DTSTART:20230326T010000
END:DAYLIGHT
BEGIN:STANDARD
TZOFFSETFROM:+0300
TZOFFSETTO:+0200
TZNAME:EET
DTSTART:20231029T010000
END:STANDARD
BEGIN:DAYLIGHT
TZOFFSETFROM:+0200
TZOFFSETTO:+0300
TZNAME:EEST
DTSTART:20240331T010000
END:DAYLIGHT
BEGIN:STANDARD
TZOFFSETFROM:+0300
TZOFFSETTO:+0200
TZNAME:EET
DTSTART:20241027T010000
END:STANDARD
END:VTIMEZONE
BEGIN:VEVENT
DTSTART;TZID=Europe/Helsinki:20230207T180000
DTEND;TZID=Europe/Helsinki:20230207T180000
DTSTAMP:20260422T144613
CREATED:20230125T123939Z
LAST-MODIFIED:20230207T092247Z
UID:3465-1675792800-1675792800@fuf-leobaeck.de
SUMMARY:Online-Reihe – Language\, Testimony\, Poetry: Female Jewish Poets in the German speaking diaspora – 1. Termin
DESCRIPTION:Poesie als poetisches Zeugnis von Traumata. In der Veranstaltung mit Dina von Schwarze geht es um Schriftsteller*innen im Exil und als Geflüchtete u. a. Hannah Arendt\, Rose Ausländer und andere. \nWeitere Termine in der Online-Reihe: 14.2. und 21.2.\nAnmeldung zur Online-Teilnahme hier↗
URL:https://fuf-leobaeck.de/event/veranstaltungsreihe-language-testimony-poetry-female-jewish-poets-in-the-german-speaking-diaspora/
LOCATION:Online
CATEGORIES:LBI Jerusalem,Veranstaltungsreihe
ATTACH;FMTTYPE=image/png:https://fuf-leobaeck.de/wp-content/uploads/2023/01/Language-Testimony-Poetry-Klein-e1675760295118.png
END:VEVENT
END:VCALENDAR