BEGIN:VCALENDAR
VERSION:2.0
PRODID:-//FUF des LBI - ECPv6.15.20//NONSGML v1.0//EN
CALSCALE:GREGORIAN
METHOD:PUBLISH
X-WR-CALNAME:FUF des LBI
X-ORIGINAL-URL:https://fuf-leobaeck.de
X-WR-CALDESC:Veranstaltungen für FUF des LBI
REFRESH-INTERVAL;VALUE=DURATION:PT1H
X-Robots-Tag:noindex
X-PUBLISHED-TTL:PT1H
BEGIN:VTIMEZONE
TZID:Asia/Jerusalem
BEGIN:DAYLIGHT
TZOFFSETFROM:+0200
TZOFFSETTO:+0300
TZNAME:IDT
DTSTART:20250328T000000
END:DAYLIGHT
BEGIN:STANDARD
TZOFFSETFROM:+0300
TZOFFSETTO:+0200
TZNAME:IST
DTSTART:20251025T230000
END:STANDARD
BEGIN:DAYLIGHT
TZOFFSETFROM:+0200
TZOFFSETTO:+0300
TZNAME:IDT
DTSTART:20260327T000000
END:DAYLIGHT
BEGIN:STANDARD
TZOFFSETFROM:+0300
TZOFFSETTO:+0200
TZNAME:IST
DTSTART:20261024T230000
END:STANDARD
BEGIN:DAYLIGHT
TZOFFSETFROM:+0200
TZOFFSETTO:+0300
TZNAME:IDT
DTSTART:20270326T000000
END:DAYLIGHT
BEGIN:STANDARD
TZOFFSETFROM:+0300
TZOFFSETTO:+0200
TZNAME:IST
DTSTART:20271030T230000
END:STANDARD
END:VTIMEZONE
BEGIN:VEVENT
DTSTART;TZID=Asia/Jerusalem:20260527T190000
DTEND;TZID=Asia/Jerusalem:20260527T203000
DTSTAMP:20260422T113555
CREATED:20260401T074538Z
LAST-MODIFIED:20260401T074538Z
UID:11299-1779908400-1779913800@fuf-leobaeck.de
SUMMARY:The Entanglement Between Literatures
DESCRIPTION:Hebrew and Arabic – Thinking Within War \n\nDr. Lilach Nethanel and Dr. Daniel Behar \nZoom event\, registration required. \nVeranstaltung ist auf HEBRÄISCH!
URL:https://fuf-leobaeck.de/event/the-entanglement-between-literatures/
LOCATION:zoom
CATEGORIES:LBI Jerusalem,Veranstaltungsreihe
ATTACH;FMTTYPE=image/jpeg:https://fuf-leobaeck.de/wp-content/uploads/2026/04/ספרות-בימי-משבר-small-e1775029099207.jpg
END:VEVENT
END:VCALENDAR