BEGIN:VCALENDAR
VERSION:2.0
PRODID:-//FUF des LBI - ECPv6.15.20//NONSGML v1.0//EN
CALSCALE:GREGORIAN
METHOD:PUBLISH
X-WR-CALNAME:FUF des LBI
X-ORIGINAL-URL:https://fuf-leobaeck.de
X-WR-CALDESC:Veranstaltungen für FUF des LBI
REFRESH-INTERVAL;VALUE=DURATION:PT1H
X-Robots-Tag:noindex
X-PUBLISHED-TTL:PT1H
BEGIN:VTIMEZONE
TZID:America/New_York
BEGIN:DAYLIGHT
TZOFFSETFROM:-0500
TZOFFSETTO:-0400
TZNAME:EDT
DTSTART:20250309T070000
END:DAYLIGHT
BEGIN:STANDARD
TZOFFSETFROM:-0400
TZOFFSETTO:-0500
TZNAME:EST
DTSTART:20251102T060000
END:STANDARD
BEGIN:DAYLIGHT
TZOFFSETFROM:-0500
TZOFFSETTO:-0400
TZNAME:EDT
DTSTART:20260308T070000
END:DAYLIGHT
BEGIN:STANDARD
TZOFFSETFROM:-0400
TZOFFSETTO:-0500
TZNAME:EST
DTSTART:20261101T060000
END:STANDARD
BEGIN:DAYLIGHT
TZOFFSETFROM:-0500
TZOFFSETTO:-0400
TZNAME:EDT
DTSTART:20270314T070000
END:DAYLIGHT
BEGIN:STANDARD
TZOFFSETFROM:-0400
TZOFFSETTO:-0500
TZNAME:EST
DTSTART:20271107T060000
END:STANDARD
END:VTIMEZONE
BEGIN:VEVENT
DTSTART;TZID=America/New_York:20260415T193000
DTEND;TZID=America/New_York:20260415T210000
DTSTAMP:20260420T105945
CREATED:20260310T123901Z
LAST-MODIFIED:20260310T125229Z
UID:11167-1776281400-1776286800@fuf-leobaeck.de
SUMMARY:Still Talking. Celebrating Lore Segal in Performance
DESCRIPTION:Mi.\, 15. Apr. 2026\, 19:30–21:00 GMT-4 \nCenter for Jewish History\n15 W. 16th St.\nNew York\, NY 10011 \nGet your tickets here. \n\n\nOn April 15th\, 2026\, WORDTheatre will bring Lore Segal’s final short story collection\, Still Talking\, to life through performances by James Cromwell (Succession)\, Toni Kalem (The Sopranos)\, Mary Beth Peil (Dawson’s Creek)\, Penny Fuller (All the President’s Men)\, Cynthia Adler (Happyish) & Laila Robins (The Walking Dead). Cellist Susan Salm will provide musical accompaniment. Curated\, produced & directed by WORDTheatre’s Founder & Artistic Director\, Cedering Fox. \nThis program is the closing celebration of the Leo Baeck Institute’s exhibition „And That’s True Too: The Life and Work of Lore Segal.“ \nTalent\nJames Oliver Cromwell is an esteemed actor and activist. Known for his extensive work as a character actor\, he has received a Primetime Emmy Award as well as a nomination for the Academy Award for Best Supporting Actor for Babe (1995). Other notable roles include in L.A. Confidential (1997)\, Deep Impact (1998)\, Boardwalk Empire (2012–2013)\, and Succession (2018–2023)\, for which he earned three Primetime Emmy Award nominations for Outstanding Guest Actor. \nMary Beth Peil is known for her long career on stage and screen\, including her Tony-nominated performance in The King and I (1985) on Broadway. On television\, she is recognized for roles in Dawson’s Creek (1998–2003) and The Good Wife (2009–2016). \nToni Kalem is an actress known for her various television credits\, including guest appearances on Starsky and Hutch\, MacGyver\, Another World\, and Police Woman. During the sixth season of The Sopranos\, Kalem was elevated from guest star to series regular for her character Angie Bonpensiero. \nPenny Fuller is an actress known for her extensive work on Broadway and television\, winning an Emmy for playing Mrs. Kendal in The Elephant Man and earning Tony nominations for Applause (as Eve Harrington) and The Dinner Party. A versatile performer since the 1960s\, she’s recognized for roles in All the President’s Men\, Cat on a Hot Tin Roof\, and Sunday in the Park with George. \nCynthia Adler is one of the top commercial voice-overs and narrators in America\, having worked extensively with HBO\, Discovery Channel\, and PBS. She was the voice of many cartoon characters for Hanna Barbara\, and for the animated feature “Fantastic Planet.” She has dubbed leading roles in numerous foreign films\, such as Swept Away\, and Seven Beauties\, for Lina Wertmueller\, 1900 for Bernardo Bertolucci\, and Scenes From A Marriage for Ingmar Bergman. Her on-screen film credits include Che Cosa? for Italian Television\, Hangin’ Out With Cici\, for ABC\, George Romero’s Knightriders\, and Banana’s Is My Business for PBS. \nLaila Robins is known for her stage and screen work\, including films such as Planes\, Trains\, and Automobiles (1987)\, An Innocent Man (1989)\, and True Crime (1999). On television\, she has appeared in Homeland (2014)\, The Blacklist (2013)\, and The Boys (2019). \nAuthor\nLore Segal was born on March 9\, 1928\, in Vienna\, the only child of solidly middle-class parents; her father\, Ignatz Groszmann\, was chief accountant at a bank\, while her mother\, Franzi (Stern)\, was a homemaker. Her life changed dramatically\, however\, shortly after Hitler’s annexation of Austria\, when she was one of a group of 500 Jewish schoolchildren quickly sent to England. For the next thirteen years she lived in several countries and with many different families—earning a B.A. from Bedford College\, London\, along the way—before finally achieving her independence and settling in New York. In 1961\, Lore Groszmann married David Segal\, an editor; they had two children\, Beatrice and Jacob\, before David’s sudden death in 1970. In addition to her writing career\, Segal held teaching appointments at Columbia University\, Princeton University\, Bennington College\, Sarah Lawrence College\, the University of Illinois at Chicago\, and Ohio State University\, from which she retired in 1995. She was an active writer into her nineties
URL:https://fuf-leobaeck.de/event/still-talking-celebrating-lore-segal-in-performance/
LOCATION:LBI New York | Berlin – Center for Jewish History\, 15 W 16th St\, New York\, 10011\, USA
CATEGORIES:LBI New York | Berlin,Performance
ATTACH;FMTTYPE=image/png:https://fuf-leobaeck.de/wp-content/uploads/2026/03/Lore_Segal_Reading_Event.2e16d0ba.fill-1766x1176-c100-e1773146138786.png
END:VEVENT
END:VCALENDAR