BEGIN:VCALENDAR
VERSION:2.0
PRODID:-//FUF des LBI - ECPv6.15.20//NONSGML v1.0//EN
CALSCALE:GREGORIAN
METHOD:PUBLISH
X-ORIGINAL-URL:https://fuf-leobaeck.de
X-WR-CALDESC:Veranstaltungen für FUF des LBI
REFRESH-INTERVAL;VALUE=DURATION:PT1H
X-Robots-Tag:noindex
X-PUBLISHED-TTL:PT1H
BEGIN:VTIMEZONE
TZID:America/New_York
BEGIN:DAYLIGHT
TZOFFSETFROM:-0500
TZOFFSETTO:-0400
TZNAME:EDT
DTSTART:20250309T070000
END:DAYLIGHT
BEGIN:STANDARD
TZOFFSETFROM:-0400
TZOFFSETTO:-0500
TZNAME:EST
DTSTART:20251102T060000
END:STANDARD
BEGIN:DAYLIGHT
TZOFFSETFROM:-0500
TZOFFSETTO:-0400
TZNAME:EDT
DTSTART:20260308T070000
END:DAYLIGHT
BEGIN:STANDARD
TZOFFSETFROM:-0400
TZOFFSETTO:-0500
TZNAME:EST
DTSTART:20261101T060000
END:STANDARD
BEGIN:DAYLIGHT
TZOFFSETFROM:-0500
TZOFFSETTO:-0400
TZNAME:EDT
DTSTART:20270314T070000
END:DAYLIGHT
BEGIN:STANDARD
TZOFFSETFROM:-0400
TZOFFSETTO:-0500
TZNAME:EST
DTSTART:20271107T060000
END:STANDARD
END:VTIMEZONE
BEGIN:VEVENT
DTSTART;TZID=America/New_York:20260317T180000
DTEND;TZID=America/New_York:20260317T203000
DTSTAMP:20260419T154349
CREATED:20260310T120956Z
LAST-MODIFIED:20260310T120956Z
UID:11154-1773770400-1773779400@fuf-leobaeck.de
SUMMARY:67th Leo Baeck Memorial Lecture by Marsha Rozenblit
DESCRIPTION:Di.\, 17. März 2026\, 18:30–20:30 \nCenter for Jewish History (map)\n15 W. 16th St.\nNew York\, NY 10011 \n  \n  \nWas New York like Vienna? How Jewish Refugees from Austria\, 1938-1941\, Made America into a New Version of the Habsburg Monarchy \n  \n\nJews who fled Nazi Austria after the Anschluss in 1938 went to many places\, but primarily to the United States\, where they tried to make new homes for themselves. In so doing\, many of them imagined that democratic America resembled the old Habsburg Monarchy\, with its tolerance for ethnic diversity. They even imagined that the American president\, Franklin Delano Roosevelt\, was like the beloved Habsburg Emperor Franz Joseph\, and New York was like Vienna. This talk will explore how Jews from Austria coped with American realities and used nostalgia for the Habsburg Monarchy as a way to adjust to their new lives in America. \nAbout our Speaker \n\n\n\n\n\nMarsha L. Rozenblit is the Harvey M. Meyerhoff Professor of Modern Jewish History at the University of Maryland\, where she has been on the faculty since 1978. A social historian of the Jews of the Habsburg Monarchy and its successor states\, she is the author of two scholarly books: The Jews of Vienna\, 1867-1914: Assimilation and Identity (State University of New York Press\, 1983); and Reconstructing a National Identity: The Jews of Habsburg Austria during World War I (Oxford University Press\, 2001). She has also co-edited two books: Constructing Nationalities in East Central Europe (Berghahn Press\, 2005); and World War I and the Jews: Conflict and Transformation in Europe\, the Middle East\, and America (Berghahn Press\, 2017); and she has written over 35 scholarly articles on such topics as Jewish religious reform in nineteenth century Vienna\, Jewish courtship and marriage in 1920s Vienna\, and German-Jewish schools in Habsburg Moravia. She served as the president of the Association for Jewish Studies\, 2009-2011. \n\n\nAdmission is free\, get your tickets here.
URL:https://fuf-leobaeck.de/event/67th-leo-baeck-memorial-lecture-by-marsha-rozenblit-2/
LOCATION:LBI New York | Berlin – Center for Jewish History\, 15 W 16th St\, New York\, 10011\, USA
CATEGORIES:LBI New York | Berlin,Lesung
ATTACH;FMTTYPE=image/jpeg:https://fuf-leobaeck.de/wp-content/uploads/2026/03/franz_joseph_fdr_collage.2e16d0ba.fill-1766x1176-c100-e1773144560455.jpg
END:VEVENT
END:VCALENDAR