BEGIN:VCALENDAR
VERSION:2.0
PRODID:-//FUF des LBI - ECPv6.15.20//NONSGML v1.0//EN
CALSCALE:GREGORIAN
METHOD:PUBLISH
X-ORIGINAL-URL:https://fuf-leobaeck.de
X-WR-CALDESC:Veranstaltungen für FUF des LBI
REFRESH-INTERVAL;VALUE=DURATION:PT1H
X-Robots-Tag:noindex
X-PUBLISHED-TTL:PT1H
BEGIN:VTIMEZONE
TZID:Asia/Jerusalem
BEGIN:DAYLIGHT
TZOFFSETFROM:+0200
TZOFFSETTO:+0300
TZNAME:IDT
DTSTART:20240329T000000
END:DAYLIGHT
BEGIN:STANDARD
TZOFFSETFROM:+0300
TZOFFSETTO:+0200
TZNAME:IST
DTSTART:20241026T230000
END:STANDARD
BEGIN:DAYLIGHT
TZOFFSETFROM:+0200
TZOFFSETTO:+0300
TZNAME:IDT
DTSTART:20250328T000000
END:DAYLIGHT
BEGIN:STANDARD
TZOFFSETFROM:+0300
TZOFFSETTO:+0200
TZNAME:IST
DTSTART:20251025T230000
END:STANDARD
BEGIN:DAYLIGHT
TZOFFSETFROM:+0200
TZOFFSETTO:+0300
TZNAME:IDT
DTSTART:20260327T000000
END:DAYLIGHT
BEGIN:STANDARD
TZOFFSETFROM:+0300
TZOFFSETTO:+0200
TZNAME:IST
DTSTART:20261024T230000
END:STANDARD
END:VTIMEZONE
BEGIN:VEVENT
DTSTART;TZID=Asia/Jerusalem:20251203T190000
DTEND;TZID=Asia/Jerusalem:20251203T203000
DTSTAMP:20260422T172444
CREATED:20251125T152146Z
LAST-MODIFIED:20251125T152615Z
UID:10293-1764788400-1764793800@fuf-leobaeck.de
SUMMARY:A Time for Every Pencil Under Heaven: On Time and Writing\, On Writing in Time
DESCRIPTION:03.12.2025\, 19:00 (Jerusalem time)\nOnline event.\nThe event will be held in Hebrew! \nSecond session in the annual series: \nIn the Wheels of Time: Issues Related to Time in Jewish-German History \n»A Time for Every Pencil Under Heaven: On Time and Writing\, On Writing in Time« \nA conversation with Prof. Vered Tohar and Prof. Amos Goldberg
URL:https://fuf-leobaeck.de/event/a-time-for-every-pencil-under-heaven-on-time-and-writing-on-writing-in-time/
LOCATION:Online
CATEGORIES:LBI Jerusalem,Veranstaltungsreihe
ATTACH;FMTTYPE=image/jpeg:https://fuf-leobaeck.de/wp-content/uploads/2025/11/מעגלות-הזמן_מפגש-שני_small-3.12.25-e1764084084679.jpg
END:VEVENT
END:VCALENDAR