BEGIN:VCALENDAR
VERSION:2.0
PRODID:-//FUF des LBI - ECPv6.15.20//NONSGML v1.0//EN
CALSCALE:GREGORIAN
METHOD:PUBLISH
X-ORIGINAL-URL:https://fuf-leobaeck.de
X-WR-CALDESC:Veranstaltungen für FUF des LBI
REFRESH-INTERVAL;VALUE=DURATION:PT1H
X-Robots-Tag:noindex
X-PUBLISHED-TTL:PT1H
BEGIN:VTIMEZONE
TZID:Europe/Helsinki
BEGIN:DAYLIGHT
TZOFFSETFROM:+0200
TZOFFSETTO:+0300
TZNAME:EEST
DTSTART:20250330T010000
END:DAYLIGHT
BEGIN:STANDARD
TZOFFSETFROM:+0300
TZOFFSETTO:+0200
TZNAME:EET
DTSTART:20251026T010000
END:STANDARD
BEGIN:DAYLIGHT
TZOFFSETFROM:+0200
TZOFFSETTO:+0300
TZNAME:EEST
DTSTART:20260329T010000
END:DAYLIGHT
BEGIN:STANDARD
TZOFFSETFROM:+0300
TZOFFSETTO:+0200
TZNAME:EET
DTSTART:20261025T010000
END:STANDARD
BEGIN:DAYLIGHT
TZOFFSETFROM:+0200
TZOFFSETTO:+0300
TZNAME:EEST
DTSTART:20270328T010000
END:DAYLIGHT
BEGIN:STANDARD
TZOFFSETFROM:+0300
TZOFFSETTO:+0200
TZNAME:EET
DTSTART:20271031T010000
END:STANDARD
END:VTIMEZONE
BEGIN:VEVENT
DTSTART;TZID=Europe/Helsinki:20260610T190000
DTEND;TZID=Europe/Helsinki:20260610T220000
DTSTAMP:20260419T183922
CREATED:20260323T132036Z
LAST-MODIFIED:20260414T150723Z
UID:11248-1781118000-1781128800@fuf-leobaeck.de
SUMMARY:»FREMDE HEIMAT« Deutsch-jüdisches Exil damals und heute
DESCRIPTION:Wir möchten Sie im Namen der Freunde und Förderer des Leo Baeck Instituts herzlich zu unserer Podiumsdiskussion mit anschließendem Empfang einladen. \n»HEIMAT FREMDE HEIMAT«\nFreuen Sie sich auf ein anregendes Gespräch über Deutsch-jüdisches Exil damals und heute. Im Zentrum stehen die Kulturgeschichte der Emigration sowie die Erfahrungen von Entwurzelung\, Isolation und dem Leben „zwischen den Stühlen“. Die Diskutierenden beleuchten historische Epochen und Biografien\, ziehen Linien in die Gegenwart und gehen der Frage nach\, wie sehr die Jüdische Diaspora als eine universelle Erfahrung von Leid\, Hoffnung und Zerstreuung begriffen werden kann.. \nDie Diskussionsrunde besteht aus folgenden Teilnehmenden: \n\nDr. Ursula Krechel setzt sich in ihrem literarischen Werk mit den Themen Verfolgung\, Flucht und Exil in Geschichte und Gegenwart auseinander\, so auch in ihrem jüngsten Buch „Vom Herzasthma des Exils“. Der Text appelliert an ein Umdenken und tiefgreifenden Respekt für jene\, die ihre Heimat verlassen (müssen und mussten). 2025 erhielt sie den Georg-Büchner-Preis.\nProf. Dr. Michael Brenner ist der Internationale Präsident des Leo Baeck Instituts. Er forscht und publiziert zu Themen deutsch-jüdischer Geschichte und Kultur\, zuletzt in seinem Buch „Der lange Schatten der Revolution“. Michael Brenner ist Professor an der Ludwig-Maximilians-Universität München und an der American University in Washington D.C.\nDr. Sebastian Schirrmeister ist Literaturwissenschaftler. Er forscht u.a. zur deutschsprachigen Exilliteratur\, zu deutsch-hebräischen Literaturbeziehungen und zu deutsch-jüdischen Archiven. Er ist der Autor von „Das Gastspiel“ (2012) und „Begegnung auf fremder Erde“ (2019) sowie zahlreicher wissenschaftlicher Aufsätze.\nModeration: Natascha Freundel ist erfahrene Journalistin und moderiert u.a. den Podcast „Der zweite Gedanke“ im rbb. Das Format widmet sich aktuellen gesellschaftlichen Fragen.\n\nWir freuen uns über ein Grußwort von Frau Julia Friedrich\, Sammlungs- und Ausstellungsdirektorin des Jüdischen Museum Berlin. \nMittwoch\, 10. Juni 2026 um 19:00 Uhr \nW. M. Blumenthal Akademie (gegenüber vom Jüdischen Museum Berlin)\nFromet-und-Moses-Mendelssohn-Platz 1\n10969 Berlin \nProgramm\n\nab 18:30 Uhr: Einlass\n19 Uhr: Programmbeginn: Begrüßung + Podiumsdiskussion zum Veranstaltungsthema\nab 20:30 Uhr: Empfang\n\nEinlass nur nach vorheriger Anmeldung hier oder unter: events@leobaeck.de 
URL:https://fuf-leobaeck.de/event/juedischesexilveranstaltungberlin/
LOCATION:W. M. Blumenthal Akademie\, Jüdisches Museum Berlin\, W. M. Blumenthal Akademie\, Fromet-und-Moses-Mendelssohn-Platz 1\, 10969 Berlin\, Berlin\, Berlin\, 10969\, Deutschland
CATEGORIES:Freunde und Förderer des LBI,Podiumsdiskussion
ATTACH;FMTTYPE=image/heic:https://fuf-leobaeck.de/wp-content/uploads/2026/03/IMG_3082-scaled-e1774271889484.jpg
END:VEVENT
END:VCALENDAR