BEGIN:VCALENDAR
VERSION:2.0
PRODID:-//FUF des LBI - ECPv6.15.20//NONSGML v1.0//EN
CALSCALE:GREGORIAN
METHOD:PUBLISH
X-WR-CALNAME:FUF des LBI
X-ORIGINAL-URL:https://fuf-leobaeck.de
X-WR-CALDESC:Veranstaltungen für FUF des LBI
REFRESH-INTERVAL;VALUE=DURATION:PT1H
X-Robots-Tag:noindex
X-PUBLISHED-TTL:PT1H
BEGIN:VTIMEZONE
TZID:America/New_York
BEGIN:DAYLIGHT
TZOFFSETFROM:-0500
TZOFFSETTO:-0400
TZNAME:EDT
DTSTART:20240310T070000
END:DAYLIGHT
BEGIN:STANDARD
TZOFFSETFROM:-0400
TZOFFSETTO:-0500
TZNAME:EST
DTSTART:20241103T060000
END:STANDARD
BEGIN:DAYLIGHT
TZOFFSETFROM:-0500
TZOFFSETTO:-0400
TZNAME:EDT
DTSTART:20250309T070000
END:DAYLIGHT
BEGIN:STANDARD
TZOFFSETFROM:-0400
TZOFFSETTO:-0500
TZNAME:EST
DTSTART:20251102T060000
END:STANDARD
BEGIN:DAYLIGHT
TZOFFSETFROM:-0500
TZOFFSETTO:-0400
TZNAME:EDT
DTSTART:20260308T070000
END:DAYLIGHT
BEGIN:STANDARD
TZOFFSETFROM:-0400
TZOFFSETTO:-0500
TZNAME:EST
DTSTART:20261101T060000
END:STANDARD
END:VTIMEZONE
BEGIN:VEVENT
DTSTART;TZID=America/New_York:20250423T183000
DTEND;TZID=America/New_York:20250423T190000
DTSTAMP:20260423T052452
CREATED:20250120T080625Z
LAST-MODIFIED:20250411T081132Z
UID:7761-1745433000-1745434800@fuf-leobaeck.de
SUMMARY:Leo Baeck Memorial Panel
DESCRIPTION:Bridging Generations\, Disciplines\, and the Atlantic: LBI at 70\nAs they began their salvage of the material and intellectual legacy of European Jewry\, the Leo Baeck Institute’s founders hoped to assemble a narrative of the German-Jewish past that was comprehensive\, synthetic\, and „free from apologetic or tendentious coloring.“ Today\, the collections of the LBI inform a corpus of scholarship that surely surpassed the founders‘ wildest expectations in scope\, but whose „coloring“ has also changed as much as society and the academy. The 66th Leo Baeck Memorial Lecture will assemble a panel of scholars to discuss the evolution of the field of German-Jewish history over seven decades and its prospects for the future. At the center of their discussion will be the LBI as an institution that has both shaped and been shaped by the many turns of intellectual history. Featuring Michael Brenner (American University / University of Munich)\, Elisheva Carlebach (Columbia)\, Raphael Gross (German Historical Museum\, Berlin)\, Marion Kaplan (NYU)\, and Helmut Walser-Smith (Vanderbilt). \nAfter the lecture\, visitors will have the opportunity to view LBI’s anniversary exhibit\, 70 Years of LBI: Bridging Generations. \nThis event will take place in-person at the Center for Jewish History and will be followed by a reception. If you are not able to attend the live event\, the panel will be recorded and uploaded to YouTube. \nMi.\, 23. Apr. 2025\, 18:30–20:00 GMT-4\nDo.\, 24. Apr. 2025\, 00:30–02:00 MESZ \nCenter for Jewish History\n15 W. 16th St.\nNew York\, NY 10011 \nGet your free tickets here. \n\nThe Leo Baeck Memorial Lecture is endowed by Marianne C. Dreyfus and Family\, the descendants of Rabbi Leo Baeck
URL:https://fuf-leobaeck.de/event/lbi-ny-berlin-leo-baeck-memorial-panel/
LOCATION:LBI New York | Berlin – Center for Jewish History\, 15 W 16th St\, New York\, 10011\, USA
CATEGORIES:LBI New York | Berlin,Vortrag
ATTACH;FMTTYPE=image/jpeg:https://fuf-leobaeck.de/wp-content/uploads/2025/01/NY-Berlin_Black-e1741781822596.jpg
END:VEVENT
END:VCALENDAR