BEGIN:VCALENDAR
VERSION:2.0
PRODID:-//FUF des LBI - ECPv6.15.20//NONSGML v1.0//EN
CALSCALE:GREGORIAN
METHOD:PUBLISH
X-WR-CALNAME:FUF des LBI
X-ORIGINAL-URL:https://fuf-leobaeck.de
X-WR-CALDESC:Veranstaltungen für FUF des LBI
REFRESH-INTERVAL;VALUE=DURATION:PT1H
X-Robots-Tag:noindex
X-PUBLISHED-TTL:PT1H
BEGIN:VTIMEZONE
TZID:Europe/London
BEGIN:DAYLIGHT
TZOFFSETFROM:+0000
TZOFFSETTO:+0100
TZNAME:BST
DTSTART:20250330T010000
END:DAYLIGHT
BEGIN:STANDARD
TZOFFSETFROM:+0100
TZOFFSETTO:+0000
TZNAME:GMT
DTSTART:20251026T010000
END:STANDARD
BEGIN:DAYLIGHT
TZOFFSETFROM:+0000
TZOFFSETTO:+0100
TZNAME:BST
DTSTART:20260329T010000
END:DAYLIGHT
BEGIN:STANDARD
TZOFFSETFROM:+0100
TZOFFSETTO:+0000
TZNAME:GMT
DTSTART:20261025T010000
END:STANDARD
BEGIN:DAYLIGHT
TZOFFSETFROM:+0000
TZOFFSETTO:+0100
TZNAME:BST
DTSTART:20270328T010000
END:DAYLIGHT
BEGIN:STANDARD
TZOFFSETFROM:+0100
TZOFFSETTO:+0000
TZNAME:GMT
DTSTART:20271031T010000
END:STANDARD
END:VTIMEZONE
BEGIN:VEVENT
DTSTART;TZID=Europe/London:20260319T180000
DTEND;TZID=Europe/London:20260319T193000
DTSTAMP:20260422T113724
CREATED:20251215T153519Z
LAST-MODIFIED:20251215T153827Z
UID:10343-1773943200-1773948600@fuf-leobaeck.de
SUMMARY:Kindertransport in British Memory and Culture
DESCRIPTION:A Roundtable Discussion \nThis event brings together scholars and individuals with personal connections to the Kindertransport to explore its legacy in British memory and culture. The discussion will examine historical narratives\, cultural representations\, and the continuing significance of the Kindertransport in shaping British identity. \nOnline (hosted by the Leo Baeck Institute London in collaboration with the British-German Association) \nMore information to follow.
URL:https://fuf-leobaeck.de/event/kindertransport-in-british-memory-and-culture/
CATEGORIES:LBI London,Podiumsdiskussion
ATTACH;FMTTYPE=image/jpeg:https://fuf-leobaeck.de/wp-content/uploads/2025/12/Bundesarchiv_Bild_183-S69279_London_Ankunft_juedische_Fluechtlinge-e1765813103822.jpg
END:VEVENT
END:VCALENDAR