BEGIN:VCALENDAR
VERSION:2.0
PRODID:-//FUF des LBI - ECPv6.15.20//NONSGML v1.0//EN
CALSCALE:GREGORIAN
METHOD:PUBLISH
X-ORIGINAL-URL:https://fuf-leobaeck.de
X-WR-CALDESC:Veranstaltungen für FUF des LBI
REFRESH-INTERVAL;VALUE=DURATION:PT1H
X-Robots-Tag:noindex
X-PUBLISHED-TTL:PT1H
BEGIN:VTIMEZONE
TZID:Europe/London
BEGIN:DAYLIGHT
TZOFFSETFROM:+0000
TZOFFSETTO:+0100
TZNAME:BST
DTSTART:20250330T010000
END:DAYLIGHT
BEGIN:STANDARD
TZOFFSETFROM:+0100
TZOFFSETTO:+0000
TZNAME:GMT
DTSTART:20251026T010000
END:STANDARD
BEGIN:DAYLIGHT
TZOFFSETFROM:+0000
TZOFFSETTO:+0100
TZNAME:BST
DTSTART:20260329T010000
END:DAYLIGHT
BEGIN:STANDARD
TZOFFSETFROM:+0100
TZOFFSETTO:+0000
TZNAME:GMT
DTSTART:20261025T010000
END:STANDARD
BEGIN:DAYLIGHT
TZOFFSETFROM:+0000
TZOFFSETTO:+0100
TZNAME:BST
DTSTART:20270328T010000
END:DAYLIGHT
BEGIN:STANDARD
TZOFFSETFROM:+0100
TZOFFSETTO:+0000
TZNAME:GMT
DTSTART:20271031T010000
END:STANDARD
END:VTIMEZONE
BEGIN:VEVENT
DTSTART;TZID=Europe/London:20260107T090000
DTEND;TZID=Europe/London:20260109T170000
DTSTAMP:20260422T142238
CREATED:20250415T093139Z
LAST-MODIFIED:20251027T101125Z
UID:8445-1767776400-1767978000@fuf-leobaeck.de
SUMMARY:Beyond Camps and Forced Labour
DESCRIPTION:The lecture is about current international research on survivors of Nazi persecution\, going beyond just concentration camps and forced labour to include all those affected by racial\, political or ideological persecution between 1933-1945. \n  \n7-9 January 2026\, 9:00\nBirkbeck\, University of London\nThe Wiener Holocaust Library\, London \n  \n\nA call for papers is now open for this conference: https://www.leobaeck.co.uk/news/2024/11/call-papers-beyond-camps-and-forced-labour-current-international-research-survivors \n\nThe conference will be held in-person only\, with no opportunity to attend virtually. \n\n\n  \n\n\n\n\nCurrent International Research On Survivors of Nazi Persecution \nEighth international multidisciplinary conference \n\n\nThis conference is planned as a follow-up to the seven successful conferences\, which took place at Imperial War Museum London in 2003\, 2006\, 2009\, 2012\, 2015 and at Birkbeck\, University of London\, and The Wiener Holocaust Library in 2018 and 2023. It will continue to build on areas previously investigated and open up new fields of academic enquiry. \n  \nThe aim is to bring together scholars from a variety of disciplines who are engaged in research on all groups of survivors of Nazi persecution. These will include – but are not limited to – Jews\, Roma and Sinti\, Slavonic peoples\, Jehovah’s Witnesses\, LGBTQIA+\, Soviet prisoners of war\, political dissidents\, members of underground movements\, people with disabilities\, the so-called ‘racially impure’\, and forced labourers. For the purpose of the conference\, a ‘survivor’ is defined as anyone who suffered any form of persecution by the Nazis or their allies as a result of the Nazis’ racial\, political\, ideological or ethnic policies from 1933 to 1945\, and who survived the Second World War. \n  \nFee: GBP 120 for speakers. The fee includes admission to all panels and evening events\, lunches and refreshments during the conference. Further information and registration details will be made available in due course. \n  \nThe conference is being organised by: \n\nJoseph Cronin\, Birkbeck\, University of London / Leo Baeck Institute London\nMaria Castrillo Llamas\, Imperial War Museums\, London\nDavid Feldman\, Birkbeck Institute for the Study of Antisemitism\, University of London\nÉva Kovács\, Vienna Wiesenthal Institute for Holocaust Studies\, Vienna\nAndrea Löw\, Center for Holocaust Studies at the Institute for Contemporary History\, Munich\nStephen Naron\, Fortunoff Video Archive for Holocaust Testimonies\, Yale University\nChristine Schmidt\, The Wiener Holocaust Library\, London\nToby Simpson\, The Wiener Holocaust Library\, London\nJohannes-Dieter Steinert\, University of Wolverhampton\nDan Stone\, Royal Holloway\, University of London\n\n\n\n\n\n\n\n\n\n\n\n\n\n\n↗ Click here for the full program.
URL:https://fuf-leobaeck.de/event/beyond-camps-and-forced-labour-current-international-research-on-survivors-of-nazi-persecution/
LOCATION:LBI London\, Mile End Road\, 2nd Floor\, Arts Two Building Queen Mary\, University of London\, London\, E1 4NS\, Großbritannien
CATEGORIES:Konferenz,LBI London
ATTACH;FMTTYPE=image/png:https://fuf-leobaeck.de/wp-content/uploads/2025/04/2026-conference-beyond-camps-2-square_0-1-e1744709467235.png
END:VEVENT
END:VCALENDAR