BEGIN:VCALENDAR
VERSION:2.0
PRODID:-//FUF des LBI - ECPv6.15.20//NONSGML v1.0//EN
CALSCALE:GREGORIAN
METHOD:PUBLISH
X-ORIGINAL-URL:https://fuf-leobaeck.de
X-WR-CALDESC:Veranstaltungen für FUF des LBI
REFRESH-INTERVAL;VALUE=DURATION:PT1H
X-Robots-Tag:noindex
X-PUBLISHED-TTL:PT1H
BEGIN:VTIMEZONE
TZID:America/New_York
BEGIN:DAYLIGHT
TZOFFSETFROM:-0500
TZOFFSETTO:-0400
TZNAME:EDT
DTSTART:20240310T070000
END:DAYLIGHT
BEGIN:STANDARD
TZOFFSETFROM:-0400
TZOFFSETTO:-0500
TZNAME:EST
DTSTART:20241103T060000
END:STANDARD
BEGIN:DAYLIGHT
TZOFFSETFROM:-0500
TZOFFSETTO:-0400
TZNAME:EDT
DTSTART:20250309T070000
END:DAYLIGHT
BEGIN:STANDARD
TZOFFSETFROM:-0400
TZOFFSETTO:-0500
TZNAME:EST
DTSTART:20251102T060000
END:STANDARD
BEGIN:DAYLIGHT
TZOFFSETFROM:-0500
TZOFFSETTO:-0400
TZNAME:EDT
DTSTART:20260308T070000
END:DAYLIGHT
BEGIN:STANDARD
TZOFFSETFROM:-0400
TZOFFSETTO:-0500
TZNAME:EST
DTSTART:20261101T060000
END:STANDARD
END:VTIMEZONE
BEGIN:VEVENT
DTSTART;TZID=America/New_York:20250203T140000
DTEND;TZID=America/New_York:20250203T153000
DTSTAMP:20260423T083830
CREATED:20250113T174002Z
LAST-MODIFIED:20250113T174002Z
UID:7667-1738591200-1738596600@fuf-leobaeck.de
SUMMARY:LBI NY | Berlin: Book Talk: Conversion and Catastrophe by Abraham Rubin.
DESCRIPTION:Abraham Rubin joins LBI to present his latest book\, Conversion and Catastrophe in German-Jewish Émigré Autobiography (2024\, University of Toronto Press) \n\nConversion and Catastrophe in German-Jewish Émigré Autobiography is a collective biography of German-Jewish converts to Christianity\, who recounted their spiritual and confessional journeys against the backdrop of the Holocaust and its aftermath. The book explores how Jewish emigrants interpreted their experiences of persecution and displacement through the hermeneutics of Christian conversion. It asks how chosen genres of writing both enabled and hindered self-understanding. Applying psychoanalysis\, disability studies\, and autobiographical theory to the life writing of converted Jews\, the book offers new avenues for conceptualizing the Jewishness of historical subjects who disavowed their ties to Judaism. \nPublished in association with the United States Holocaust Memorial Museum. \n\n\n\nAbout the Author and Guest: \n \n\n\nAbraham Rubin is an assistant professor in the Department of Religious Studies at the University of Dayton in Ohio. Before joining UD\, he held postdoctoral fellowships at the Hebrew University of Jerusalem\, Lawrence University in Wisconsin and Goethe University\, Frankfurt. He received his PhD in comparative literature from the CUNY Graduate Center. \n\n  \nMo.\, Feb. 3rd 2025 \n14:00–15:30 GMT-5 \n  \nCenter for Jewish History \n15 W. 16th St. \nNew York\, NY 10011 \n\nThis event will be held in person at the Center for Jewish History. If you cannot attend the live event\, it will be recorded and uploaded to YouTube. \nAdmission is free\, to get your ticket\, click ↗ here.
URL:https://fuf-leobaeck.de/event/lbi-ny-berlin-book-talk-conversion-and-catastrophe-by-abraham-rubin/
LOCATION:LBI New York | Berlin – Center for Jewish History\, 15 W 16th St\, New York\, 10011\, USA
CATEGORIES:LBI New York | Berlin,Lesung
ATTACH;FMTTYPE=image/jpeg:https://fuf-leobaeck.de/wp-content/uploads/2025/01/Rubin_cover_long.2e16d0ba.fill-1766x1176-c100-e1736789846259.jpg
END:VEVENT
END:VCALENDAR