BEGIN:VCALENDAR
VERSION:2.0
PRODID:-//FUF des LBI - ECPv6.15.20//NONSGML v1.0//EN
CALSCALE:GREGORIAN
METHOD:PUBLISH
X-ORIGINAL-URL:https://fuf-leobaeck.de
X-WR-CALDESC:Veranstaltungen für FUF des LBI
REFRESH-INTERVAL;VALUE=DURATION:PT1H
X-Robots-Tag:noindex
X-PUBLISHED-TTL:PT1H
BEGIN:VTIMEZONE
TZID:Europe/Berlin
BEGIN:DAYLIGHT
TZOFFSETFROM:+0100
TZOFFSETTO:+0200
TZNAME:CEST
DTSTART:20250330T010000
END:DAYLIGHT
BEGIN:STANDARD
TZOFFSETFROM:+0200
TZOFFSETTO:+0100
TZNAME:CET
DTSTART:20251026T010000
END:STANDARD
BEGIN:DAYLIGHT
TZOFFSETFROM:+0100
TZOFFSETTO:+0200
TZNAME:CEST
DTSTART:20260329T010000
END:DAYLIGHT
BEGIN:STANDARD
TZOFFSETFROM:+0200
TZOFFSETTO:+0100
TZNAME:CET
DTSTART:20261025T010000
END:STANDARD
BEGIN:DAYLIGHT
TZOFFSETFROM:+0100
TZOFFSETTO:+0200
TZNAME:CEST
DTSTART:20270328T010000
END:DAYLIGHT
BEGIN:STANDARD
TZOFFSETFROM:+0200
TZOFFSETTO:+0100
TZNAME:CET
DTSTART:20271031T010000
END:STANDARD
END:VTIMEZONE
BEGIN:VEVENT
DTSTART;TZID=Europe/Berlin:20260610T190000
DTEND;TZID=Europe/Berlin:20260610T203000
DTSTAMP:20260424T125851
CREATED:20260323T132036Z
LAST-MODIFIED:20260423T091740Z
UID:11248-1781118000-1781123400@fuf-leobaeck.de
SUMMARY:»FREMDE HEIMAT« Deutsch-jüdisches Exil gestern und heute
DESCRIPTION:Wir möchten Sie im Namen der Freunde und Förderer des Leo Baeck Instituts herzlich zu unserer Podiumsdiskussion in Kooperation mit dem Podcast »Der zweite Gedanke« (radio3/rbb) mit anschließendem Empfang einladen. \nFreuen Sie sich auf ein anregendes Gespräch über deutsch-jüdisches Exil gestern und heute. Im Zentrum stehen die Kulturgeschichte der jüdischen Emigration sowie universelle Erfahrungen von Entwurzelung\, Isolation und dem Leben zwischen den Stühlen. Vom Topos des Wandernden Juden über die zerstörten Träume einer deutsch-jüdischen Symbiose bis in die gewaltvolle Gegenwart gehen wir der Frage nach\, ob Flucht und Migration Ankommen bedeuten kann – selbst wenn es ein Ankommen in einer fremden Heimat ist. \nDie Diskussionsrunde besteht aus folgenden Teilnehmenden: \n\nDr. Ursula Krechel setzt sich in ihrem literarischen Werk mit den Themen Verfolgung\, Flucht und Exil in Geschichte und Gegenwart auseinander\, so auch in ihrem jüngsten Buch »Vom Herzasthma des Exils«. Der Text appelliert an ein Umdenken und tiefgreifenden Respekt für jene\, die ihre Heimat verlassen (müssen und mussten). 2025 erhielt sie den Georg-Büchner-Preis.\nProf. Dr. Michael Brenner ist der Internationale Präsident des Leo Baeck Instituts. Er forscht und publiziert zu Themen deutsch-jüdischer Geschichte und Kultur\, zuletzt in seinem Buch »Der lange Schatten der Revolution«. Michael Brenner ist Professor an der Ludwig-Maximilians-Universität München und an der American University in Washington D.C.\nDr. Sebastian Schirrmeister ist Literaturwissenschaftler. Er forscht u.a. zur deutschsprachigen Exilliteratur\, zu deutsch-hebräischen Literaturbeziehungen und zu deutsch-jüdischen Archiven. Er ist der Autor von »Das Gastspiel« (2012) und »Begegnung auf fremder Erde« (2019) sowie zahlreicher wissenschaftlicher Aufsätze.\nModeration: Natascha Freundel ist Journalistin mit einem Schwerpunkt auf deutsch-jüdischer Geschichte. Sie ist Redakteurin und Moderatorin der Podcast- und Radiodebatte »Der zweite Gedanke« von radio3 im rbb.\n\nWir freuen uns über ein Grußwort von Frau Julia Friedrich\, Sammlungs- und Ausstellungsdirektorin des Jüdischen Museum Berlin. \nProgramm\n\nab 18:30 Uhr: Einlass\n19 Uhr: Programmbeginn: Begrüßung + Podiumsdiskussion zum Veranstaltungsthema\nab 20:30 Uhr: Empfang\n\nDie Veranstaltung findet in Kooperation mit radio3 statt\, wo der Mitschnitt am 11. Juni 2026 um 19:03 Uhr sowie am 13. Juni 2026 um 13:03 Uhr und im Podcast »Der zweite Gedanke« (u.a. in der ARD Sounds App) zu hören sein wird. \nEinlass nur nach vorheriger Anmeldung. Der Eintritt ist kostenfrei. Die Plätze sind begrenzt\, daher erbitten wir eine zeitnahe Anmeldung\, um Ihnen eine Teilnahme garantieren zu können. \nIn Kooperation mit
URL:https://fuf-leobaeck.de/event/juedischesexilveranstaltungberlin/
LOCATION:W. M. Blumenthal Akademie\, Fromet-und-Moses-Mendelssohn-Platz 1\, Berlin\, 10969
CATEGORIES:Freunde und Förderer des LBI,Podiumsdiskussion
ATTACH;FMTTYPE=image/heic:https://fuf-leobaeck.de/wp-content/uploads/2026/03/IMG_3082-scaled-e1774271889484.jpg
END:VEVENT
END:VCALENDAR