BEGIN:VCALENDAR
VERSION:2.0
PRODID:-//FUF des LBI - ECPv6.15.20//NONSGML v1.0//EN
CALSCALE:GREGORIAN
METHOD:PUBLISH
X-ORIGINAL-URL:https://fuf-leobaeck.de
X-WR-CALDESC:Veranstaltungen für FUF des LBI
REFRESH-INTERVAL;VALUE=DURATION:PT1H
X-Robots-Tag:noindex
X-PUBLISHED-TTL:PT1H
BEGIN:VTIMEZONE
TZID:Europe/Berlin
BEGIN:DAYLIGHT
TZOFFSETFROM:+0100
TZOFFSETTO:+0200
TZNAME:CEST
DTSTART:20250330T010000
END:DAYLIGHT
BEGIN:STANDARD
TZOFFSETFROM:+0200
TZOFFSETTO:+0100
TZNAME:CET
DTSTART:20251026T010000
END:STANDARD
BEGIN:DAYLIGHT
TZOFFSETFROM:+0100
TZOFFSETTO:+0200
TZNAME:CEST
DTSTART:20260329T010000
END:DAYLIGHT
BEGIN:STANDARD
TZOFFSETFROM:+0200
TZOFFSETTO:+0100
TZNAME:CET
DTSTART:20261025T010000
END:STANDARD
BEGIN:DAYLIGHT
TZOFFSETFROM:+0100
TZOFFSETTO:+0200
TZNAME:CEST
DTSTART:20270328T010000
END:DAYLIGHT
BEGIN:STANDARD
TZOFFSETFROM:+0200
TZOFFSETTO:+0100
TZNAME:CET
DTSTART:20271031T010000
END:STANDARD
END:VTIMEZONE
BEGIN:VTIMEZONE
TZID:America/New_York
BEGIN:DAYLIGHT
TZOFFSETFROM:-0500
TZOFFSETTO:-0400
TZNAME:EDT
DTSTART:20250309T070000
END:DAYLIGHT
BEGIN:STANDARD
TZOFFSETFROM:-0400
TZOFFSETTO:-0500
TZNAME:EST
DTSTART:20251102T060000
END:STANDARD
BEGIN:DAYLIGHT
TZOFFSETFROM:-0500
TZOFFSETTO:-0400
TZNAME:EDT
DTSTART:20260308T070000
END:DAYLIGHT
BEGIN:STANDARD
TZOFFSETFROM:-0400
TZOFFSETTO:-0500
TZNAME:EST
DTSTART:20261101T060000
END:STANDARD
BEGIN:DAYLIGHT
TZOFFSETFROM:-0500
TZOFFSETTO:-0400
TZNAME:EDT
DTSTART:20270314T070000
END:DAYLIGHT
BEGIN:STANDARD
TZOFFSETFROM:-0400
TZOFFSETTO:-0500
TZNAME:EST
DTSTART:20271107T060000
END:STANDARD
END:VTIMEZONE
BEGIN:VEVENT
DTSTART;TZID=Europe/Berlin:20260114T200000
DTEND;TZID=Europe/Berlin:20260114T213000
DTSTAMP:20260419T221124
CREATED:20260114T112623Z
LAST-MODIFIED:20260114T113108Z
UID:10540-1768420800-1768426200@fuf-leobaeck.de
SUMMARY:Horace Cayton: Black Renaissance Man and Raconteur
DESCRIPTION:Who was the real man behind the male protagonist of Lore Segal’s Her First American?\n  \n\n\nThis event is part of LBI’s programming series surrounding our exhibition And That’s True Too: The Life and Work of Lore Segal \nIn this talk\, writer Jeffery Allen will discuss the historical significance of Horace Cayton\, who became the romantic partner to Lore Segal soon after the end of World War II. Allen will position Cayton\, a well-known intellectual and political figure known for his quips and colorful personality\, within the larger framework of the Harlem Renaissance\, as a member of the generation termed the “New Negro” and as a part of the burgeoning Civil Rights Movement. Cayton served as the inspiration for Lore’s character of Carter Bayoux in her best-known novel\, Her First American. \nAbout the Speaker \n\n\nJeffery Renard Allen is the award-winning author of six books of fiction and poetry\, including the celebrated novel Song of the Shank\, which was a front-page review in both The New York Times Book Review and The San Francisco Chronicle. Allen’s other accolades include The Chicago Tribune’s Heartland Prize for Fiction\, The Chicago Public Library’s Twenty-First Century Award\, the Ernest J. Gaines Award for Literary Excellence\, a grant from Creative Capital\, a Whiting Writers‘ Award\, a Guggenheim fellowship\, a NYFA grant\, residencies at the Bellagio Center\, Ucross\, The Hermitage\, VCCA\, Monson Arts\, and Jentel Arts\, and fellowships at The Center for Scholars and Writers\, the Johannesburg Institute for Advanced Studies\, and the Schomburg Center for Research in Black Culture. He was a finalist for both the PEN/Faulkner Award and the Carnegie Medal for Excellence in Fiction. Allen is the founder and editor of Taint Taint Taint magazine and is the Africa Editor for The Evergreen Review. His latest books are the short story collection Fat Time and the memoir An Unspeakable Hope\, the latter co-authored with Leon Ford. Allen is at work on several projects\, including a memoir entitled Mother-Wit\, a book of poems called No Borders\, and the short story collection Try Me. Allen makes his home in Johannesburg and New York. Find out more about him at www.writerjefferyrenardallen.com. \nThursday\, 12. Feb. 2026\, 20:00–21:30 MEZ \nOnline\, admission is free\, get your
URL:https://fuf-leobaeck.de/event/horace-cayton-black-renaissance-man-and-raconteur/
LOCATION:Online
CATEGORIES:Ausstellung,Vortrag
ATTACH;FMTTYPE=image/jpeg:https://fuf-leobaeck.de/wp-content/uploads/2026/01/horace.cayton_wide.2e16d0ba.fill-1766x1176-c100-e1768389828415.jpg
END:VEVENT
BEGIN:VEVENT
DTSTART;TZID=America/New_York:20260122T183000
DTEND;TZID=America/New_York:20260122T203000
DTSTAMP:20260419T221124
CREATED:20260114T111005Z
LAST-MODIFIED:20260114T111136Z
UID:10532-1769106600-1769113800@fuf-leobaeck.de
SUMMARY:Exhibition Opening: And That's True Too
DESCRIPTION:The Life and Work of Lore Segal\n  \n\nThe program will be livestreamed on our YouTube here. \nOn January 22\, LBI will open its first exhibition of 2026 And That’s True Too: The Life and Work of Lore Segal. Aside from the unveiling of the exhibition\, the opening event will feature renowned actor Toni Kalem (The Sopranos) reading from Lore Segal’s autobiographical novel Other People’s Houses. \n\n\nAbout the Exhibition \nAnd That’s True Too: The Life and Work of Lore Segal presents a richly documented exploration of the life and literary legacy of Lore Segal (1928–2024). Born in Vienna\, Segal survived Nazi persecution as a child when she escaped on one of the earliest Kindertransports to England. Her subsequent life—marked by displacement\, reinvention\, and a lifelong engagement with language—shaped a body of work distinguished by moral clarity\, wit\, and intellectual rigor. \nThe exhibition features photographs\, manuscripts\, rare books\, and archival materials that trace Segal’s journey from prewar Vienna to New York and examine how exile informed her novels\, short stories\, translations\, and children’s books\, as well as her influential career as a teacher. \nThe title And That’s True Too reflects Segal’s commitment to complexity and multiple perspectives—an ethos that runs through her writing and her reflections on memory\, identity\, and human connection. \nAbout our guest \n\n\n\n\n\n\n\n\nToni Kalem has an extensive background as an actress in film\, television\, and theater. Although known for her portrayal of Italian characters in iconic films such as Philip Kaufman’s\, THE WANDERERS\, PRIVATE BENJAMIN\, and Angie Bonpensiero on THE SOPRANOS\, for which she also wrote\, Ms. Kalem is of Jewish descent. When she read Lore Segal’s autobiographical novel\, OTHER PEOPLE’S HOUSES\, she discovered the deeply personal story she’d always wanted to tell. Like Lore\, her mother was also on the Kindertransport\, but unlike Lore\, she barely spoke of her experience. Ms. Kalem\, who now has her German citizenship\, has adapted OPH as a screenplay and plans to shoot in Vienna and the UK. \nSome other film credits include adapting and directing Anne Tyler’s\, A SLIPPING-DOWN LIFE\, which was nominated for the Grand Jury Prize at the Sundance Film Festival\, and an adaptation of Lisa Zeidner’s novel\, LAYOVER\, which she will direct starring Guy Pearce.
URL:https://fuf-leobaeck.de/event/exhibition-opening-and-thats-true-too/
LOCATION:LBI New York | Berlin – Center for Jewish History\, 15 W 16th St\, New York\, 10011\, USA
CATEGORIES:Ausstellung,LBI New York | Berlin
ATTACH;FMTTYPE=image/jpeg:https://fuf-leobaeck.de/wp-content/uploads/2026/01/Segal_Lore_AD_1993_03_yGprX.2e16d0ba.fill-1766x1176-c100-e1768389087413.jpg
END:VEVENT
END:VCALENDAR