BEGIN:VCALENDAR
VERSION:2.0
PRODID:-//FUF des LBI - ECPv6.15.20//NONSGML v1.0//EN
CALSCALE:GREGORIAN
METHOD:PUBLISH
X-WR-CALNAME:FUF des LBI
X-ORIGINAL-URL:https://fuf-leobaeck.de
X-WR-CALDESC:Veranstaltungen für FUF des LBI
REFRESH-INTERVAL;VALUE=DURATION:PT1H
X-Robots-Tag:noindex
X-PUBLISHED-TTL:PT1H
BEGIN:VTIMEZONE
TZID:Europe/Helsinki
BEGIN:DAYLIGHT
TZOFFSETFROM:+0200
TZOFFSETTO:+0300
TZNAME:EEST
DTSTART:20230326T010000
END:DAYLIGHT
BEGIN:STANDARD
TZOFFSETFROM:+0300
TZOFFSETTO:+0200
TZNAME:EET
DTSTART:20231029T010000
END:STANDARD
BEGIN:DAYLIGHT
TZOFFSETFROM:+0200
TZOFFSETTO:+0300
TZNAME:EEST
DTSTART:20240331T010000
END:DAYLIGHT
BEGIN:STANDARD
TZOFFSETFROM:+0300
TZOFFSETTO:+0200
TZNAME:EET
DTSTART:20241027T010000
END:STANDARD
BEGIN:DAYLIGHT
TZOFFSETFROM:+0200
TZOFFSETTO:+0300
TZNAME:EEST
DTSTART:20250330T010000
END:DAYLIGHT
BEGIN:STANDARD
TZOFFSETFROM:+0300
TZOFFSETTO:+0200
TZNAME:EET
DTSTART:20251026T010000
END:STANDARD
END:VTIMEZONE
BEGIN:VEVENT
DTSTART;TZID=Europe/Helsinki:20241006T160000
DTEND;TZID=Europe/Helsinki:20241006T180000
DTSTAMP:20260422T203859
CREATED:20240902T064648Z
LAST-MODIFIED:20240930T110338Z
UID:6845-1728230400-1728237600@fuf-leobaeck.de
SUMMARY:7. Oktober. Stimmen aus Israel. Präsentation des Jüdischen Almanachs 2024 im Centrum Judaicum Berlin
DESCRIPTION:Ein Jahr danach – Präsentation des neuen Jüdischen Almanachs \nDer Jüdische Almanach wird seit 1993 jährlich im Jüdischen Verlag bei Suhrkamp veröffentlicht und widmet sich verschiedenen Aspekten jüdischer Kultur\, Geschichte und Gegenwart. In diesem Jahr erscheint der Almanach nicht nur im Schatten des 7. Oktober 2023 und der nachfolgenden Ereignisse\, sondern setzt diese bewusst als zentrales Thema. Denn der „Schwarze Schabbat“\, wie der 7. Oktober auch genannt wird\, stellt für Israelis sowie Jüdinnen und Juden weltweit eine Zäsur ohnegleichen dar. \nGisela Dachs\, Herausgeberin des Almanachs\, wird zu Beginn der Veranstaltung eine Bildstrecke aus dem Band präsentieren\, die das sich wandelnde urbane Gesicht Tel Avivs seit dem 7. Oktober zeigt. Im Anschluss findet ein von Tamara Or\, Vorständin der Stiftung Deutsch-Israelisches Zukunftsforum\, moderiertes Gespräch zwischen dem in Berlin lebenden israelischen Autor Assaf Uni und Gisela Dachs statt. In Abwesenheit des israelischen Schriftstellers David Grossman wird dessen Text von Christian Berkel vorgetragen. \nDie Veranstaltung wird in Kooperation mit dem Leo Baeck Institut Jerusalem und dem Jüdischen Verlag im Suhrkamp Verlag durchgeführt. Sie findet im Rahmen der Museumssonntage statt und wird großzügig von Kulturprojekte Berlin unterstützt. \nDie Teilnahme ist kostenlos\, eine Anmeldung ist jedoch erforderlich. Informationen dazu finden Sie auf der auf der Seite des Veranstalters.\n \n\n  \nSonntag\, 6. Oktober 2024 um 16:00 \nRepräsentantensaal in der Neuen Synagoge Berlin – Centrum Judaicum\nOranienburger Straße 28-30\n10117 Berlin \n  \nEs wird darum gebeten\, mindestens 30 Minuten vor Beginn der Veranstaltung zu erscheinen\, da die Sicherheitskontrolle einige Zeit in Anspruch nehmen kann. \n  \nDas Buch erscheint am 23.09. und kann bereits hier vorbestellt werden.
URL:https://fuf-leobaeck.de/event/7-oktober-stimmen-aus-israel-praesentation-des-juedischen-almanachs-2024-in-berlin/
LOCATION:Repräsentantensaal in der Neuen Synagoge Berlin – Centrum Judaicum\, Oranienburger Straße 28-30\, 10117 Berlin
CATEGORIES:LBI Jerusalem,Lesung,Veranstaltungsreihe
ATTACH;FMTTYPE=image/jpeg:https://fuf-leobaeck.de/wp-content/uploads/2024/08/7-oktober_9783633543335_cover-e1725259920438.jpg
END:VEVENT
BEGIN:VEVENT
DTSTART;TZID=Europe/Helsinki:20241008T190000
DTEND;TZID=Europe/Helsinki:20241008T213000
DTSTAMP:20260422T203859
CREATED:20240902T063357Z
LAST-MODIFIED:20240930T110322Z
UID:6850-1728414000-1728423000@fuf-leobaeck.de
SUMMARY:7. Oktober. Stimmen aus Israel. Präsentation des Jüdischen Almanachs 2024 in München
DESCRIPTION:Ein Jahr danach – Präsentation des neuen Jüdischen Almanachs \n\n\n\n\n»Der 7. Oktober 2023\, der sogenannte »Schwarze Schabbat«\, stellt für die Israelis eine Zäsur ohnegleichen dar. Das schiere Ausmaß des Massakers der Hamas\, die ungeheuerliche Brutalität\, die Geiselnahmen und der darauffolgende Krieg\, so lange wie noch keiner zuvor in der Geschichte des Landes\, haben die gesamte Nation traumatisiert«\, stellt die Sozialwissenschaftlerin und Publizistin Gisela Dachs fest. \n\n\n\n\n\nZum ersten Jahrestag gibt Dr. Gisela Dachs\, Professorin am Europäischen Forum der Hebräischen Universität Jerusalem und seit 2001 Herausgeberin des Jüdischen Almanachs\, gemeinsam mit Dr. Gilad Shenhav\, Leiter des Zentrums für Israel-Studien an der Ludwig- Maximilians-Universität\, einen Rückblick und eine Einordnung der Ereignisse vom 7. Oktober 2023 und ihrer Auswirkungen. \nBegrüßung: Irene Aue-Ben David\, Leo Baeck Institute – Jerusalem \n  \n\n\n\n\n\n\n\n\n\n\n\n\nDer Eintritt ist frei\, Spenden sind willkommen. Um Anmeldung per email an karten@ikg-m.de oder Telefon unter (089)202400-491 wird gebeten. \n  \n\nDienstag\, 8. Oktober 2024 um 19:00 \n\n\n\n\nJüdisches Gemeindezentrum\nSt.-Jakobs-Platz 18\n80331 München \n  \n\n\n\n\n\nDas Buch erschien am 23.09. und kann hier bestellt werden.
URL:https://fuf-leobaeck.de/event/7-oktober-stimmen-aus-israel-praesentation-des-juedischen-almanachs-2024-in-muenchen/
LOCATION:Israelitische Kultusgemeinde München und Oberbayern K.d.ö.R\, St.-Jakobs-Platz 18\, München\, Bayern\, 80331\, Deutschland
CATEGORIES:LBI Jerusalem,Lesung
ATTACH;FMTTYPE=image/jpeg:https://fuf-leobaeck.de/wp-content/uploads/2024/08/7-oktober_9783633543335_cover-1-e1725260127881.jpg
END:VEVENT
BEGIN:VEVENT
DTSTART;TZID=Europe/Helsinki:20241009T190000
DTEND;TZID=Europe/Helsinki:20241009T203000
DTSTAMP:20260422T203859
CREATED:20240902T071058Z
LAST-MODIFIED:20240930T110050Z
UID:6858-1728500400-1728505800@fuf-leobaeck.de
SUMMARY:Nach der Katastrophe. Lesung und Gespräch zum 7. Oktober im Jüdischen Museum Frankfurt a. M.
DESCRIPTION:Nach der Katastrophe. Lesung und Gespräch zum 7. Oktober\n\n\n\n\n\n\nDas Massaker vom 7. Oktober 2023 stellt für Israelis sowie Jüdinnen und Juden weltweit eine Zäsur dar. Das schiere Ausmaß und die ungeheuerliche Brutalität\, die Geiselnahmen und ein Krieg\, der so lange wie noch keiner zuvor andauert\, haben weitreichende Folgen. Das Vertrauen in die Sicherheit von Jüdinnen und Juden sowohl im Staat Israel wie auch in der Diaspora ist zutiefst erschüttert. Wie kann ein Neuanfang gelingen? Dieser und weiteren Fragen widmen sich zwei Bücher mit literarischen und anderen Texten\, die eine Einordnung der Ereignisse aus verschiedenen Perspektiven vornehmen und zur Buchmesse auch in deutscher Übersetzung erscheinen\, nämlich Gisela Dachs (Hrsg): »7. Oktober. Stimmen aus Israel« (Suhrkamp-Verlag) und Oded Wolkenstein und Maayan Eitan (Hrsg.): »Schutzraum. Seit dem 7. Oktober« (Hentrich & Hentrich). Beide Bücher setzen auf die Möglichkeiten der Stärkung und Reflexion durch Literatur und werden an dem Abend erstmalig in Deutschland vorgestellt. \nDer Abend bietet szenische Lesungen mit Texten u.a. von Etgar Keret\, Smadar Sheffi\, Ayelet Gundar-Goshen aus der einen und Elisa Albert\, Maxim Biller und Dror Mishani aus der anderen Anthologie sowie Gespräche mit den Buchbeteiligten. \n\n\nEine Kooperation vom Institut für Neue Soziale Plastik\, Hentrich & Hentrich Verlag\, Institute for Hebrew Literature\, Leo Baeck Institute Jerusalem und dem Suhrkamp Verlag. \n  \nDas Buch »Schutzraum« von Maayan Eitan und Oded Wolkstein erscheint voraussichtlich im Oktober und ist bereits im Verlag Hentrich & Hentrich vorbestellbar\, »7. Oktober. Stimmen aus Israel«\, herausgegegeben von Gisela Dachs\, erscheint am 23.09. und kann hier vorbestellt werden. \n  \nMittwoch\, den 9.10.2024 um 19:00 \nJüdisches Museum Frankfurt\nBertha-Pappenheim-Platz 1\n60311 Frankfurt am Main \n  \nEintritt 10 €\, ermäßigt 5 €. Bitte melden Sie sich bis spätestens werktags\, 12 Uhr\, vor dem gewünschten Termin an. Kontakt: veranstaltungen.jmf@stadt-frankfurt.de​​​​​​​​​​​​​​. Die Anmeldung ist erst gültig\, wenn Sie eine Bestätigung per Mail erhalten haben.
URL:https://fuf-leobaeck.de/event/nach-der-katastrophe-lesung-und-gespraech-zum-7-oktober-in-frankfurt-a-m/
LOCATION:Jüdisches Museum Frankfurt\, Bertha-Pappenheim-Platz\, Frankfurt am Main\, Hessen\, 160311
CATEGORIES:LBI Jerusalem,Lesung,Veranstaltungsreihe
ATTACH;FMTTYPE=image/jpeg:https://fuf-leobaeck.de/wp-content/uploads/2024/08/nach-der-kratastrophe-_-Schutzraum-e1725260656653.jpg
END:VEVENT
BEGIN:VEVENT
DTSTART;TZID=Europe/Helsinki:20241010T190000
DTEND;TZID=Europe/Helsinki:20241010T200000
DTSTAMP:20260422T203859
CREATED:20240902T062951Z
LAST-MODIFIED:20240930T110033Z
UID:6861-1728586800-1728590400@fuf-leobaeck.de
SUMMARY:7. Oktober. Stimmen aus Israel. Präsentation des Jüdischen Almanachs 2024 im Ariowitsch-Haus Leipzig
DESCRIPTION:Der Almanach zum 7. Oktober – Versuch einer Einordnung\n  \nEine Buchvorstellung von Frau Prof. Gisela Dachs \nDer 7. Oktober 2023 stellt für die Israelis eine Zäsur ohnegleichen dar. Von nun an wird es in der Zeitrechnung nur noch ein Davor und ein Danach geben. Das schiere Ausmaß und die ungeheuerliche Brutalität der Angriffe der Hamas\, die Geiselnahmen und ein Krieg\, so lange wie noch keiner zuvor\, haben die Nation traumatisiert. Die Grundfesten\, auf denen man sich im eigenen Staat sicher fühlte\, wurden zutiefst erschüttert. Wie kann hier ein Neuanfang gelingen? \nMit freundlicher Unterstützung des Leibniz-Institut für jüdische Geschichte und Kultur – Simon Dubnow. \nDer Eintritt ist frei\, aus Sicherheitsgründen bitten wir Sie sich zur Veranstaltung unter keinbrecht@ariowitschhaus.de anzumelden. Es wird Taschenkontrollen geben! \nDonnerstag\, den 10. Oktober 2024\nKultur- und Begegnungszentrum Ariowitsch-Haus e.V.\nHinrichsenstraße 14\n04105 Leipzig \n  \nDas Buch erschien am 23.09. und kann bereits hier bestellt werden. \n 
URL:https://fuf-leobaeck.de/event/7-oktober-stimmen-aus-israel-praesentation-des-juedischen-almanachs-2024-in-leipzig/
LOCATION:Kultur- und Begegnungszentrum Ariowitsch-Haus e.V.\, Hinrichsenstraße 14\, Leipzig\, 04105
CATEGORIES:LBI Jerusalem,Lesung,Veranstaltungsreihe
ATTACH;FMTTYPE=image/jpeg:https://fuf-leobaeck.de/wp-content/uploads/2024/08/7-oktober_9783633543335_cover-e1725259920438.jpg
END:VEVENT
END:VCALENDAR