BEGIN:VCALENDAR
VERSION:2.0
PRODID:-//FUF des LBI - ECPv6.15.20//NONSGML v1.0//EN
CALSCALE:GREGORIAN
METHOD:PUBLISH
X-WR-CALNAME:FUF des LBI
X-ORIGINAL-URL:https://fuf-leobaeck.de
X-WR-CALDESC:Veranstaltungen für FUF des LBI
REFRESH-INTERVAL;VALUE=DURATION:PT1H
X-Robots-Tag:noindex
X-PUBLISHED-TTL:PT1H
BEGIN:VTIMEZONE
TZID:Europe/Helsinki
BEGIN:DAYLIGHT
TZOFFSETFROM:+0200
TZOFFSETTO:+0300
TZNAME:EEST
DTSTART:20220327T010000
END:DAYLIGHT
BEGIN:STANDARD
TZOFFSETFROM:+0300
TZOFFSETTO:+0200
TZNAME:EET
DTSTART:20221030T010000
END:STANDARD
BEGIN:DAYLIGHT
TZOFFSETFROM:+0200
TZOFFSETTO:+0300
TZNAME:EEST
DTSTART:20230326T010000
END:DAYLIGHT
BEGIN:STANDARD
TZOFFSETFROM:+0300
TZOFFSETTO:+0200
TZNAME:EET
DTSTART:20231029T010000
END:STANDARD
BEGIN:DAYLIGHT
TZOFFSETFROM:+0200
TZOFFSETTO:+0300
TZNAME:EEST
DTSTART:20240331T010000
END:DAYLIGHT
BEGIN:STANDARD
TZOFFSETFROM:+0300
TZOFFSETTO:+0200
TZNAME:EET
DTSTART:20241027T010000
END:STANDARD
END:VTIMEZONE
BEGIN:VEVENT
DTSTART;TZID=Europe/Helsinki:20230126T190000
DTEND;TZID=Europe/Helsinki:20230126T190000
DTSTAMP:20260422T162727
CREATED:20230112T154501Z
LAST-MODIFIED:20230207T092523Z
UID:2674-1674759600-1674759600@fuf-leobaeck.de
SUMMARY:Samson Schames: Fragmente des Exils
DESCRIPTION:Sie sehen gerade einen Platzhalterinhalt von YouTube. Um auf den eigentlichen Inhalt zuzugreifen\, klicken Sie auf die Schaltfläche unten. Bitte beachten Sie\, dass dabei Daten an Drittanbieter weitergegeben werden. \n Mehr Informationen \n Inhalt entsperren Erforderlichen Service akzeptieren und Inhalte entsperren \n \n \n\n  \n  \nSamson Schames stammte aus einer alteingesessenen Frankfurter jüdischen Familie. Mit Unterstützung seines Onkels\, des renommierten Galeristen Ludwig Schames\, fand er seinen eigenen Weg in die Kunstszene der 1920er Jahre. Er begann mit einer Ausbildung als Maler\, Grafiker und Bühnenbildner. Seine Entwürfe\, Zeichnungen und Ölgemälde aus der Zeit bis 1933 zeigen seine tiefe Verbundenheit mit Frankfurt und seinen Landschaften. \nNach der nationalsozialistischen Machtübernahme emigrierte Schames 1939 nach London. Hier schuf er aus den materiellen Zeugnissen der Bombardierung\, aus Glas-\, Porzellan- und Geschirrscherben neuartige Mosaike. Diese großformatigen Kunstwerke\, die aus der Zerstörung entstanden sind\, stehen im Zentrum der neuen Kabinettausstellung im Raum „Kunst und Exil“. Die Präsentation thematisiert die drei wichtigen Lebensphasen des Künstlers\, setzt seine Frankfurter Zeit sowie die künstlerischen Anfänge in Bezug zu seinem Werk im britischen Exil und schließlich zu dem in neuen Heimat in New York. Zudem ist sie eine Hommage an die erste Ausstellung\, die das Jüdische Museum Frankfurt 1989 zeigte. \nVernissage: 26. Januar\, 19 Uhr\, Jüdisches Museum Frankfurt a. M. \nDie Ausstellung im Jüdischen Museum Frankfurt wurde von Annika Friedman kuratiert und in Kooperation mit dem LBI New York | Berlin entwickelt.
URL:https://fuf-leobaeck.de/event/samson-schames-fragmente-des-exils/
CATEGORIES:LBI New York | Berlin
END:VEVENT
END:VCALENDAR