BEGIN:VCALENDAR
VERSION:2.0
PRODID:-//FUF des LBI - ECPv6.15.20//NONSGML v1.0//EN
CALSCALE:GREGORIAN
METHOD:PUBLISH
X-WR-CALNAME:FUF des LBI
X-ORIGINAL-URL:https://fuf-leobaeck.de
X-WR-CALDESC:Veranstaltungen für FUF des LBI
REFRESH-INTERVAL;VALUE=DURATION:PT1H
X-Robots-Tag:noindex
X-PUBLISHED-TTL:PT1H
BEGIN:VTIMEZONE
TZID:America/New_York
BEGIN:DAYLIGHT
TZOFFSETFROM:-0500
TZOFFSETTO:-0400
TZNAME:EDT
DTSTART:20210314T070000
END:DAYLIGHT
BEGIN:STANDARD
TZOFFSETFROM:-0400
TZOFFSETTO:-0500
TZNAME:EST
DTSTART:20211107T060000
END:STANDARD
BEGIN:DAYLIGHT
TZOFFSETFROM:-0500
TZOFFSETTO:-0400
TZNAME:EDT
DTSTART:20220313T070000
END:DAYLIGHT
BEGIN:STANDARD
TZOFFSETFROM:-0400
TZOFFSETTO:-0500
TZNAME:EST
DTSTART:20221106T060000
END:STANDARD
BEGIN:DAYLIGHT
TZOFFSETFROM:-0500
TZOFFSETTO:-0400
TZNAME:EDT
DTSTART:20230312T070000
END:DAYLIGHT
BEGIN:STANDARD
TZOFFSETFROM:-0400
TZOFFSETTO:-0500
TZNAME:EST
DTSTART:20231105T060000
END:STANDARD
END:VTIMEZONE
BEGIN:VEVENT
DTSTART;TZID=America/New_York:20221218T150000
DTEND;TZID=America/New_York:20221218T170000
DTSTAMP:20260422T143658
CREATED:20221207T152945Z
LAST-MODIFIED:20230207T113006Z
UID:1799-1671375600-1671382800@fuf-leobaeck.de
SUMMARY:Chanukka-Konzert
DESCRIPTION:Bereits seit einigen Jahren ist das Chanukka-Konzert eine beliebte Veranstaltung für die Feiertage. Unterstützt vom YIVO\, dem LBI New York | Berlin und dem Center for Jewish History werden vergnügliche Lieder und Geschichten präsentiert. Es ist bereits Tradition\, dass das Konzert mit einer Chanukka-Geschichte vom berühmten jiddischen Schriftsteller Isaac Bashevis Singer eröffnet wird. Auch in diesem Jahr wird Eleanor Reissa\, Tony-Award-Gewinnerin aus ihren zuletzt erschienenen Memoiren The Letters Project: A Daughter’s Journey lesen. \nPräsentiert von der American Society for Jewish Music\, YIVO und dem Center for Jewish History.
URL:https://fuf-leobaeck.de/event/hannukah-concert-copy-copy/
LOCATION:LBI New York | Berlin – Center for Jewish History\, 15 W 16th St\, New York\, 10011\, USA
CATEGORIES:Konzert,LBI New York | Berlin
ATTACH;FMTTYPE=image/webp:https://fuf-leobaeck.de/wp-content/uploads/2022/12/HanukkahConcert-1920w-e1675769352379.webp
END:VEVENT
END:VCALENDAR