BEGIN:VCALENDAR
VERSION:2.0
PRODID:-//FUF des LBI - ECPv6.15.20//NONSGML v1.0//EN
CALSCALE:GREGORIAN
METHOD:PUBLISH
X-WR-CALNAME:FUF des LBI
X-ORIGINAL-URL:https://fuf-leobaeck.de
X-WR-CALDESC:Veranstaltungen für FUF des LBI
REFRESH-INTERVAL;VALUE=DURATION:PT1H
X-Robots-Tag:noindex
X-PUBLISHED-TTL:PT1H
BEGIN:VTIMEZONE
TZID:America/New_York
BEGIN:DAYLIGHT
TZOFFSETFROM:-0500
TZOFFSETTO:-0400
TZNAME:EDT
DTSTART:20220313T070000
END:DAYLIGHT
BEGIN:STANDARD
TZOFFSETFROM:-0400
TZOFFSETTO:-0500
TZNAME:EST
DTSTART:20221106T060000
END:STANDARD
BEGIN:DAYLIGHT
TZOFFSETFROM:-0500
TZOFFSETTO:-0400
TZNAME:EDT
DTSTART:20230312T070000
END:DAYLIGHT
BEGIN:STANDARD
TZOFFSETFROM:-0400
TZOFFSETTO:-0500
TZNAME:EST
DTSTART:20231105T060000
END:STANDARD
BEGIN:DAYLIGHT
TZOFFSETFROM:-0500
TZOFFSETTO:-0400
TZNAME:EDT
DTSTART:20240310T070000
END:DAYLIGHT
BEGIN:STANDARD
TZOFFSETFROM:-0400
TZOFFSETTO:-0500
TZNAME:EST
DTSTART:20241103T060000
END:STANDARD
END:VTIMEZONE
BEGIN:VEVENT
DTSTART;TZID=America/New_York:20230328T183000
DTEND;TZID=America/New_York:20230328T203000
DTSTAMP:20260422T114405
CREATED:20230315T121536Z
LAST-MODIFIED:20230315T121536Z
UID:4533-1680028200-1680035400@fuf-leobaeck.de
SUMMARY:Filmvorführung mit der Regisseurin: Eine Frau
DESCRIPTION:In Eine Frau (Deutschland\, 2021) folgt Filmemacherin Jeanine Meerapfel den Spuren einer Frau und ihres Lebens von Frankreich über Deutschland in ihr Exil in Argentinien. Sie zeichnet dabei fast archäologisch die unterschiedlichen Etappen vom Exil und Unsicherheit nach. Erinnerungen und Ausschnitte aus Briefen fügen sich zu einer ergreifenden Erzählung über verschiedene gebrochene Biografien zusammen. Gleichzeitig beschäftigt sich die Regisseurin mit dem fragmenthaften Wesen von Erinnerung: „Was wird erinnert\, was wird vergessen? Und warum?“ \nEine Frau feierte auf dem 36. Internationalen Filmfestival Mar del Plata in Argentinien Weltpremiere.2022 wurde es auf verschiedenen Filmfestivals in Europa gezeigt\, u.a. dem Thessaloniki Dokumentarfestival und DOK.fest München. Er war der Eröffnungsfilm beim Jüdischen Film Festival Berlin | Brandenburg (JFBB) und erhielt dort den Preis in der Kategorie „interkultureller Dialog“. \nDie Regisseurin Jeanine Meerapfel steht im Anschluss an den Film für ein Gespräch zur Verfügung. \nDie Veranstaltung findet vor Ort in New York statt. \nAnmelung hier↗\, Eintritt: 10 $ / ermäßigt 5$ \nEine Veranstaltung vom LBI New York | Berlin in Zusammenarbeit mit der Uni Freiburg.
URL:https://fuf-leobaeck.de/event/filmvorfuehrung-mit-der-regisseurin-eine-frau/
LOCATION:LBI New York | Berlin – Center for Jewish History\, 15 W 16th St\, New York\, 10011\, USA
CATEGORIES:Filmvorführung,LBI New York | Berlin,Podiumsdiskussion
ATTACH;FMTTYPE=image/jpeg:https://fuf-leobaeck.de/wp-content/uploads/2023/03/meerapfel-eine-frau-e1678882452454.jpg
END:VEVENT
END:VCALENDAR