BEGIN:VCALENDAR
VERSION:2.0
PRODID:-//FUF des LBI - ECPv6.15.20//NONSGML v1.0//EN
CALSCALE:GREGORIAN
METHOD:PUBLISH
X-WR-CALNAME:FUF des LBI
X-ORIGINAL-URL:https://fuf-leobaeck.de
X-WR-CALDESC:Veranstaltungen für FUF des LBI
REFRESH-INTERVAL;VALUE=DURATION:PT1H
X-Robots-Tag:noindex
X-PUBLISHED-TTL:PT1H
BEGIN:VTIMEZONE
TZID:America/New_York
BEGIN:DAYLIGHT
TZOFFSETFROM:-0500
TZOFFSETTO:-0400
TZNAME:EDT
DTSTART:20220313T070000
END:DAYLIGHT
BEGIN:STANDARD
TZOFFSETFROM:-0400
TZOFFSETTO:-0500
TZNAME:EST
DTSTART:20221106T060000
END:STANDARD
BEGIN:DAYLIGHT
TZOFFSETFROM:-0500
TZOFFSETTO:-0400
TZNAME:EDT
DTSTART:20230312T070000
END:DAYLIGHT
BEGIN:STANDARD
TZOFFSETFROM:-0400
TZOFFSETTO:-0500
TZNAME:EST
DTSTART:20231105T060000
END:STANDARD
BEGIN:DAYLIGHT
TZOFFSETFROM:-0500
TZOFFSETTO:-0400
TZNAME:EDT
DTSTART:20240310T070000
END:DAYLIGHT
BEGIN:STANDARD
TZOFFSETFROM:-0400
TZOFFSETTO:-0500
TZNAME:EST
DTSTART:20241103T060000
END:STANDARD
END:VTIMEZONE
BEGIN:VEVENT
DTSTART;TZID=America/New_York:20230328T173000
DTEND;TZID=America/New_York:20230328T200000
DTSTAMP:20260422T114404
CREATED:20230315T123800Z
LAST-MODIFIED:20230315T123800Z
UID:4538-1680024600-1680033600@fuf-leobaeck.de
SUMMARY:Filmvorführung:  Heimat ist ein Raum aus Zeit
DESCRIPTION:In Heimat ist ein Raum aus Zeit (Deutschland\, 2019) zeigt Filmemacher Thomas Heise Geschichten aus drei Generationen seiner eigenen Familie in der jeweils eigenen Erzählweise. Er beginnt mit einem Anti-Kriegs-Essay\, den sein Großvater im Jahr 1912 als Schüler geschrieben hatte. Der Regisseur benutzt die gleiche sachliche Erzählart im gesamten Film\, der anschließend die Schrecken des Ersten Weltkriegs\, Deutschland unter den Nationalsozialisten und das Leben in der DDR bis zum Fall der Berliner Mauer nachzeichnet. Eine besonders hervorzuhebende Sequenz zeigt Heises Großeltern\, die in sog. Mischehe während der Nazizeit in Wien lebten. In ihren Briefen werden die Entrechtung von Jüdinnen und Juden deutlich: sie durften den öffentlichen Bus nicht mehr benutzen\, hatten kein Anrecht auf Heizkohle-Rationen und wurden schließlich in ein Konzentrationslager in Polen verschleppt. Während des Vorlesens werden Listen mit Namen der deportierten Jüdinnen und Juden gezeigt. \nFilmlänge 218 Minuten (ohne Pause).\nFilm-Einführung: 17:30 Uhr\nFilmbeginn: 18:00 Uhr. \nDie Veranstaltung findet vor Ort in New York statt. \nAnmeldung hier↗\, Eintritt: 10 $ / ermäßigt 5$ \nEine Veranstaltung vom LBI New York | Berlin in Zusammenarbeit mit American Coucil on Germany\, Uni Freiburg und Society & Diplomatic Review.
URL:https://fuf-leobaeck.de/event/filmvorfuehrung-heimat-ist-ein-raum-aus-zeit/
LOCATION:LBI New York | Berlin – Center for Jewish History\, 15 W 16th St\, New York\, 10011\, USA
CATEGORIES:Filmvorführung,LBI New York | Berlin
ATTACH;FMTTYPE=image/jpeg:https://fuf-leobaeck.de/wp-content/uploads/2023/03/HeimatIsASpaceInTime-Thomas-Heise-e1678883741876.jpg
END:VEVENT
END:VCALENDAR