BEGIN:VCALENDAR
VERSION:2.0
PRODID:-//FUF des LBI - ECPv6.15.20//NONSGML v1.0//EN
CALSCALE:GREGORIAN
METHOD:PUBLISH
X-WR-CALNAME:FUF des LBI
X-ORIGINAL-URL:https://fuf-leobaeck.de
X-WR-CALDESC:Veranstaltungen für FUF des LBI
REFRESH-INTERVAL;VALUE=DURATION:PT1H
X-Robots-Tag:noindex
X-PUBLISHED-TTL:PT1H
BEGIN:VTIMEZONE
TZID:Europe/Helsinki
BEGIN:DAYLIGHT
TZOFFSETFROM:+0200
TZOFFSETTO:+0300
TZNAME:EEST
DTSTART:20220327T010000
END:DAYLIGHT
BEGIN:STANDARD
TZOFFSETFROM:+0300
TZOFFSETTO:+0200
TZNAME:EET
DTSTART:20221030T010000
END:STANDARD
BEGIN:DAYLIGHT
TZOFFSETFROM:+0200
TZOFFSETTO:+0300
TZNAME:EEST
DTSTART:20230326T010000
END:DAYLIGHT
BEGIN:STANDARD
TZOFFSETFROM:+0300
TZOFFSETTO:+0200
TZNAME:EET
DTSTART:20231029T010000
END:STANDARD
BEGIN:DAYLIGHT
TZOFFSETFROM:+0200
TZOFFSETTO:+0300
TZNAME:EEST
DTSTART:20240331T010000
END:DAYLIGHT
BEGIN:STANDARD
TZOFFSETFROM:+0300
TZOFFSETTO:+0200
TZNAME:EET
DTSTART:20241027T010000
END:STANDARD
END:VTIMEZONE
BEGIN:VEVENT
DTSTART;TZID=Europe/Helsinki:20230130T200000
DTEND;TZID=Europe/Helsinki:20230130T200000
DTSTAMP:20260422T142412
CREATED:20230124T145201Z
LAST-MODIFIED:20230124T145745Z
UID:3440-1675108800-1675108800@fuf-leobaeck.de
SUMMARY:Der Holocaust im europäischen Kontext
DESCRIPTION:Eine Lesung mit Susanne Heim zur Vorstellung einer neuen Sammlung von 5.000 Dokumenten in 16 Ausgaben unter dem Titel „The Persecution and Murder of European Jews by Nazi Germany\, 1933–1945“. Die Sammlung gibt Einblicke in das Leben von Jüdinnen und Juden unter der Nazi-Herrschaft. Die Ausgabe enthält sowohl private Zeugnisse von Opfern als auch Dokumente ihrer Verfolger*innen und Berichte von Mitläufer*innen. \nDie Veranstaltung ist in englischer Sprache. \nzur Anmeldung↗
URL:https://fuf-leobaeck.de/event/der-holocaust-im-europaeischen-kontext/
LOCATION:Online
CATEGORIES:LBI New York | Berlin,Lesung
ATTACH;FMTTYPE=image/jpeg:https://fuf-leobaeck.de/wp-content/uploads/2023/01/Lecture_Holocaust_Jan-23-e1675760320673.jpg
END:VEVENT
END:VCALENDAR